BEGIN:VCALENDAR
VERSION:2.0
PRODID:-//Tukios.com/
BEGIN:VEVENT
UID:db9b3e45-4f1e-4e4f-8ea2-db1993073fa8@www.riserfuneralhomes.com
DTSTAMP:20260422T184433Z
DTSTART:20260424T190000Z
DTEND:20260424T200000Z
SUMMARY:Funeral Service
DESCRIPTION:
URL:https://www.riserfuneralhomes.com/obituaries/karen-phillips
LOCATION:Apostolic Truth Tabernacle 424 Mecon  Grayson LA 71435
GEO:32.0260113;-92.1161176
END:VEVENT
END:VCALENDAR