BEGIN:VCALENDAR
VERSION:2.0
PRODID:-//Tukios.com/
BEGIN:VEVENT
UID:fe94119f-d535-4647-9c5e-a0f182d6df4e@www.riserfuneralhomes.com
DTSTAMP:20260422T184037Z
DTSTART:20260424T200000Z
DTEND:20260424T210000Z
SUMMARY:Interment
DESCRIPTION:
URL:https://www.riserfuneralhomes.com/obituaries/karen-phillips
LOCATION: Hwy 126 E  Grayson LA 71435
GEO:32.0501072;-92.1092762
END:VEVENT
END:VCALENDAR