BEGIN:VCALENDAR
VERSION:2.0
PRODID:-//Tukios.com/
BEGIN:VEVENT
UID:3803bcb6-d10c-42a0-8139-7c55a8a35f92@www.riserfuneralhomes.com
DTSTAMP:20260422T183926Z
DTSTART:20260424T170000Z
DTEND:20260424T190000Z
SUMMARY:Visitation
DESCRIPTION:
URL:https://www.riserfuneralhomes.com/obituaries/karen-phillips
LOCATION: 424 Mecom  Grayson LA 71435
GEO:32.0260113;-92.1161176
END:VEVENT
END:VCALENDAR