BEGIN:VCALENDAR
VERSION:2.0
PRODID:-//Tukios.com/
BEGIN:VEVENT
UID:ac7f4947-0f4f-4d24-9ae1-0596c8669d63@www.riserfuneralhomes.com
DTSTAMP:20260421T185934Z
DTSTART:20260425T150000Z
DTEND:20260425T160000Z
SUMMARY:Funeral Service
DESCRIPTION:
URL:https://www.riserfuneralhomes.com/obituaries/jessie-clark
LOCATION: 7025 LA-126  Grayson LA 71435
GEO:32.0658017;-92.1662459
END:VEVENT
END:VCALENDAR