BEGIN:VCALENDAR
VERSION:2.0
PRODID:-//Tukios.com/
BEGIN:VEVENT
UID:bd77a272-cec6-4aaa-b98a-50ea380252cd@www.riserfuneralhomes.com
DTSTAMP:20260421T185645Z
DTSTART:20260425T140000Z
DTEND:20260425T150000Z
SUMMARY:Visitation
DESCRIPTION:
URL:https://www.riserfuneralhomes.com/obituaries/jessie-clark
LOCATION: 7025 LA-126  Grayson LA 71435
GEO:32.0658017;-92.1662459
END:VEVENT
END:VCALENDAR